BEGIN:VCALENDAR
VERSION:2.0
PRODID:-//Trinity Univerity - ECPv6.15.20//NONSGML v1.0//EN
CALSCALE:GREGORIAN
METHOD:PUBLISH
X-ORIGINAL-URL:https://tu.ac.zm
X-WR-CALDESC:Events for Trinity Univerity
REFRESH-INTERVAL;VALUE=DURATION:PT1H
X-Robots-Tag:noindex
X-PUBLISHED-TTL:PT1H
BEGIN:VTIMEZONE
TZID:Europe/Helsinki
BEGIN:DAYLIGHT
TZOFFSETFROM:+0200
TZOFFSETTO:+0300
TZNAME:EEST
DTSTART:20220327T010000
END:DAYLIGHT
BEGIN:STANDARD
TZOFFSETFROM:+0300
TZOFFSETTO:+0200
TZNAME:EET
DTSTART:20221030T010000
END:STANDARD
BEGIN:DAYLIGHT
TZOFFSETFROM:+0200
TZOFFSETTO:+0300
TZNAME:EEST
DTSTART:20230326T010000
END:DAYLIGHT
BEGIN:STANDARD
TZOFFSETFROM:+0300
TZOFFSETTO:+0200
TZNAME:EET
DTSTART:20231029T010000
END:STANDARD
BEGIN:DAYLIGHT
TZOFFSETFROM:+0200
TZOFFSETTO:+0300
TZNAME:EEST
DTSTART:20240331T010000
END:DAYLIGHT
BEGIN:STANDARD
TZOFFSETFROM:+0300
TZOFFSETTO:+0200
TZNAME:EET
DTSTART:20241027T010000
END:STANDARD
BEGIN:DAYLIGHT
TZOFFSETFROM:+0200
TZOFFSETTO:+0300
TZNAME:EEST
DTSTART:20250330T010000
END:DAYLIGHT
BEGIN:STANDARD
TZOFFSETFROM:+0300
TZOFFSETTO:+0200
TZNAME:EET
DTSTART:20251026T010000
END:STANDARD
END:VTIMEZONE
BEGIN:VTIMEZONE
TZID:UTC
BEGIN:STANDARD
TZOFFSETFROM:+0000
TZOFFSETTO:+0000
TZNAME:UTC
DTSTART:20190101T000000
END:STANDARD
END:VTIMEZONE
BEGIN:VEVENT
DTSTART;TZID=Europe/Helsinki:20240510T080000
DTEND;TZID=Europe/Helsinki:20240510T130000
DTSTAMP:20260421T192312
CREATED:20240510T093055Z
LAST-MODIFIED:20241101T094407Z
UID:6788-1715328000-1715346000@tu.ac.zm
SUMMARY:Trinity University Graduation 2024
DESCRIPTION:
URL:https://tu.ac.zm/event/trinity-university-graduation-2024/
LOCATION:Trinity University Main Cmpus\, Lot No. 8\, Danny Pule Road\, Mass Media\, Lusaka\, Zambia\, Lusaka\, Lusaka\, 10101\, Zambia
ATTACH;FMTTYPE=image/jpeg:https://tu.ac.zm/wp-content/uploads/2024/11/grad2024-4.jpg
END:VEVENT
BEGIN:VEVENT
DTSTART;TZID=Europe/Helsinki:20230512T090000
DTEND;TZID=Europe/Helsinki:20230512T140000
DTSTAMP:20260421T192312
CREATED:20230510T120850Z
LAST-MODIFIED:20230511T090154Z
UID:6744-1683882000-1683900000@tu.ac.zm
SUMMARY:Social and Health Care Assistant Graduation
DESCRIPTION:﻿Loading…
URL:https://tu.ac.zm/event/social-and-health-care-assistant-graduation/
LOCATION:Trinity University Chalala Campus\, Plot 29 Chilenje/Chalala\, Lusaka\, Lusaka\, 10101
ATTACH;FMTTYPE=image/jpeg:https://tu.ac.zm/wp-content/uploads/2023/05/Graduation.jpg
END:VEVENT
BEGIN:VEVENT
DTSTART;TZID=UTC:20211013T090000
DTEND;TZID=UTC:20211013T130000
DTSTAMP:20260421T192312
CREATED:20210916T095533Z
LAST-MODIFIED:20211129T132445Z
UID:5986-1634115600-1634130000@tu.ac.zm
SUMMARY:Trinity University Capping Ceremony October 2021
DESCRIPTION:Trinity University Capping Ceremony October 2021 \nTrinity University Capping Ceremony October 2021 \nTrinity University Capping Ceremony October 2021 \nTrinity University Capping Ceremony October 2021
URL:https://tu.ac.zm/event/trinity-university-capping-ceremony-october-2021/
LOCATION:TU Auditorium\, Plot 8 Danny Pule Road\, Lusaka\, Zambia
ATTACH;FMTTYPE=image/jpeg:https://tu.ac.zm/wp-content/uploads/2018/08/tyler-callahan-662157-unsplash.jpg
ORGANIZER;CN="TU Admin":MAILTO:info@tu.ac.zm
END:VEVENT
BEGIN:VEVENT
DTSTART;TZID=UTC:20210809T090000
DTEND;TZID=UTC:20210809T130000
DTSTAMP:20260421T192312
CREATED:20210816T095247Z
LAST-MODIFIED:20211129T143218Z
UID:5984-1628499600-1628514000@tu.ac.zm
SUMMARY:TU Orientation August 2021
DESCRIPTION:TU Orientation August 2021 \nTU Orientation August 2021 \nTU Orientation August 2021
URL:https://tu.ac.zm/event/tu-orientation-august-2021/
LOCATION:TU Auditorium\, Plot 8 Danny Pule Road\, Lusaka\, Zambia
ATTACH;FMTTYPE=image/jpeg:https://tu.ac.zm/wp-content/uploads/2021/08/Capping-scaled.jpg
ORGANIZER;CN="TU Admin":MAILTO:info@tu.ac.zm
END:VEVENT
BEGIN:VEVENT
DTSTART;TZID=UTC:20200107T070000
DTEND;TZID=UTC:20200107T233000
DTSTAMP:20260421T192312
CREATED:20190816T100220Z
LAST-MODIFIED:20211129T132936Z
UID:5993-1578380400-1578439800@tu.ac.zm
SUMMARY:Reunion Event : Trinity's Alumni Golf Tournament
DESCRIPTION:The Kabwe Open Golf tournament is sponsored by Zambia Railways Limited. The Zambia Golf Union (ZGU) was represented by Mr. Christopher Mulenga\, the ZGU Vice President (South)\, who was also the Guest of Honor at the tournament. The ZRL Managing Director\, Mr. Christopher Musonda was also in attendance to witness the games and was on hand to give away the prizes.
URL:https://tu.ac.zm/event/trinitys-alumni-golf-tournament/
LOCATION:Lusaka Golf Club\, Los Angeles Blvd\, Lusaka\, Zambia
ATTACH;FMTTYPE=image/jpeg:https://tu.ac.zm/wp-content/uploads/2019/08/golf.jpg
ORGANIZER;CN="TU Admin":MAILTO:info@tu.ac.zm
END:VEVENT
END:VCALENDAR